BEGIN:VCALENDAR
VERSION:2.0
PRODID:icalendar-ruby
CALSCALE:GREGORIAN
METHOD:PUBLISH
BEGIN:VEVENT
DTSTAMP:20260424T150146Z
UID:46-4125375@salemgmc.org
DTSTART:20260825T210000Z
DTEND:20260825T220000Z
CLASS:PUBLIC
CREATED:20260424T100603
DESCRIPTION: A fun place for teens to connect with each other and explore 
 the Word of God in a way that applies to their daily lives. This is an acc
 epting group of teens that care for and support each other in Christian fr
 iendship. 
LAST-MODIFIED:20260424T100603
LOCATION:Upstairs\, Youth Cafe
SUMMARY:Youth Group
URL;VALUE=URI:https://salemgmc.org/events/youth-group/2026-08-25
ATTACH;FILENAME=Youth Group Logo.jpg;FMTTYPE=image/jpeg:https://dq5pwpg1q8r
 u0.cloudfront.net/2024/10/25/16/53/46/2eca81de-b91e-4ff1-b069-5a95be6b40a6
 /Youth%20Group%20Logo.jpg
END:VEVENT
END:VCALENDAR
